BEGIN:VCALENDAR
VERSION:2.0
PRODID:icalendar-ruby
CALSCALE:GREGORIAN
METHOD:PUBLISH
BEGIN:VEVENT
DTSTAMP:20260419T123918Z
UID:8-1365719@azaleacommunitychurch.com
DTSTART:20261029T010000Z
DTEND:20261029T020000Z
CLASS:PUBLIC
CREATED:20260419T040802
DESCRIPTION:Prayer meeting
LAST-MODIFIED:20260419T040802
LOCATION:At the Church
SUMMARY:Prayer meeting
URL;VALUE=URI:https://azaleacommunitychurch.com/events/prayer-meeting/2026-
 10-28
END:VEVENT
END:VCALENDAR
