BEGIN:VCALENDAR
VERSION:2.0
PRODID:icalendar-ruby
CALSCALE:GREGORIAN
METHOD:PUBLISH
BEGIN:VEVENT
DTSTAMP:20260422T055207Z
UID:7-1379152@azaleacommunitychurch.com
DTSTART:20261018T180000Z
DTEND:20261018T190000Z
CLASS:PUBLIC
CREATED:20260421T165451
DESCRIPTION:Worship Service
LAST-MODIFIED:20260421T165451
LOCATION:At the church and on Facebook live
SUMMARY:Worship Service
URL;VALUE=URI:https://azaleacommunitychurch.com/events/worship-service--7/2
 026-10-18
END:VEVENT
END:VCALENDAR
