BEGIN:VCALENDAR
VERSION:2.0
PRODID:icalendar-ruby
CALSCALE:GREGORIAN
METHOD:PUBLISH
BEGIN:VEVENT
DTSTAMP:20260422T091340Z
UID:7-1379154@azaleacommunitychurch.com
DTSTART:20261101T190000Z
DTEND:20261101T200000Z
CLASS:PUBLIC
CREATED:20260421T165451
DESCRIPTION:Worship Service
LAST-MODIFIED:20260421T165451
LOCATION:At the church and on Facebook live
SUMMARY:Worship Service
URL;VALUE=URI:https://azaleacommunitychurch.com/events/worship-service--7/2
 026-11-01
END:VEVENT
END:VCALENDAR
